BEGIN:VCALENDAR
VERSION:2.0
PRODID:-//ExpressionEngine Easy iCalendar plugin//NONSGML v2.0.1//EN
X-WR-TIMEZONE:America/Chicago
X-WR-CALNAME:Upcoming Auctions
BEGIN:VEVENT
UID:158645
DTSTAMP:20260316T120000
DTSTART:20260316T120000
DTEND:20260430T180000
SUMMARY:Henderson Estate Lago Vista\, Tx
LOCATION:{location}
DESCRIPTION:estate
URL:https://waddleauctioneers.bwpreview.com/auctions/detail/bw15
 8645
SEQUENCE:1
END:VEVENT
END:VCALENDAR